BEGIN:VCALENDAR
VERSION:2.0
PRODID:-//wp-events-plugin.com//6.4.6.4//EN
TZID:Europe/Vienna
X-WR-TIMEZONE:Europe/Vienna
BEGIN:VEVENT
UID:2@athea.at
DTSTART;TZID=Europe/Vienna:20181018T173000
DTEND;TZID=Europe/Vienna:20181018T200000
DTSTAMP:20200219T161142Z
URL:https://www.athea.at/events/fachvortrag-end-of-life-healthcare-expendi
 ture-testing-economic-explanations-using-a-discrete-choice-experiment/
SUMMARY:Fachvortrag „End-of-life healthcare expenditure: testing economic
  explanations using a discrete choice experiment“
DESCRIPTION:Healthcare expenditure (HCE) spent during an individual’s las
 t year of life accounts for a high share of lifetime HCE. This finding is 
 puzzling because an investment in health is unlikely to have a sufficientl
 y long payback period. However\, Becker et al. (2007) and Philipson et al.
  (2010) have advanced a theory designed to explain high willingness to pay
  (WTP) for an extension of life close to its end.\n\nTheir testable implic
 ations are complemented by the concept of ‘pain of risk bearing’ intro
 duced by Eeckhoudt and Schlesinger (2006). They are tested using a discret
 e choice experiment performed in 2014\, involving 1\,529 Swiss adults. An 
 individual setting where the price attribute is substantial out-of-pocket 
 payment for a novel drug for treatment of terminal cancer is distinguished
  from a societal one\, where it is an increase in contributions to social 
 health insurance. Most of the economic predictions receive empirical suppo
 rt.\n\nVortragender:\nProfessor em. Dr. Peter Zweifel\, Universität Züri
 ch\n\nAnmeldung:\nDie Teilnahme an der Veranstaltung ist kostenlos\, wir b
 itte um Anmeldung an athea@athea.at bis spätestens 07. Oktober 2018.\n\
 nOrt:\nWirtschaftsuniversität Wien\, Raum AD.0.114 (Gebäude AD\, Erdges
 choß\, Sitzungssaal 1)\, Welthandesplatz 1\, 1020 Wien\n\n&nbsp\;
CATEGORIES:Fachvortrag
LOCATION:Wirtschaftsuniversität Wien\, Welthandelsplatz 1\, Wien\, Wien\, 
 1020\, Wien\, Österreich
GEO:48.2149351;16.405877499999974
X-APPLE-STRUCTURED-LOCATION;VALUE=URI;X-ADDRESS=Welthandelsplatz 1\, Wien\,
  Wien\, 1020\, Wien\, Österreich;X-APPLE-RADIUS=100;X-TITLE=Wirtschaftsun
 iversität Wien:geo:48.2149351,16.405877499999974
END:VEVENT
BEGIN:VTIMEZONE
TZID:Europe/Vienna
X-LIC-LOCATION:Europe/Vienna
BEGIN:DAYLIGHT
DTSTART:20180325T030000
TZOFFSETFROM:+0100
TZOFFSETTO:+0200
TZNAME:CEST
END:DAYLIGHT
END:VTIMEZONE
END:VCALENDAR